BEGIN:VCALENDAR
VERSION:2.0
PRODID:-//TRƯỜNG CAO ĐẲNG CÔNG THƯƠNG MIỀN TRUNG - ECPv6.15.20//NONSGML v1.0//EN
CALSCALE:GREGORIAN
METHOD:PUBLISH
X-WR-CALNAME:TRƯỜNG CAO ĐẲNG CÔNG THƯƠNG MIỀN TRUNG
X-ORIGINAL-URL:https://mitc.edu.vn
X-WR-CALDESC:Sự kiện cho TRƯỜNG CAO ĐẲNG CÔNG THƯƠNG MIỀN TRUNG
REFRESH-INTERVAL;VALUE=DURATION:PT1H
X-Robots-Tag:noindex
X-PUBLISHED-TTL:PT1H
BEGIN:VTIMEZONE
TZID:Asia/Ho_Chi_Minh
BEGIN:STANDARD
TZOFFSETFROM:+0700
TZOFFSETTO:+0700
TZNAME:+07
DTSTART:20240101T000000
END:STANDARD
END:VTIMEZONE
BEGIN:VEVENT
DTSTART;VALUE=DATE:20250701
DTEND;VALUE=DATE:20250702
DTSTAMP:20260425T015709
CREATED:20250614T015631Z
LAST-MODIFIED:20250614T015631Z
UID:27603-1751328000-1751414399@mitc.edu.vn
SUMMARY:Hưởng ứng ngày Bảo hiểm y tế Việt Nam 01/7/2025
DESCRIPTION:
URL:https://mitc.edu.vn/event/huong-ung-ngay-bao-hiem-y-te-viet-nam-01-7-2025
LOCATION:Nguyễn Tất Thành\, 261 Nguyễn Tất Thành\, phường 8\, Tuy Hòa\, Phú Yên\, 56100\, Viet Nam
ATTACH;FMTTYPE=image/jpeg:https://mitc.edu.vn/wp-content/uploads/2025/06/z6696796245506_bbf4002b3be156b35e02d79c0da67ea8.jpg
ORGANIZER;CN="MITC":MAILTO:Support@mitc.edu.vn
END:VEVENT
END:VCALENDAR