BEGIN:VCALENDAR
VERSION:2.0
PRODID:-//TRƯỜNG CAO ĐẲNG CÔNG THƯƠNG MIỀN TRUNG - ECPv6.15.20//NONSGML v1.0//EN
CALSCALE:GREGORIAN
METHOD:PUBLISH
X-WR-CALNAME:TRƯỜNG CAO ĐẲNG CÔNG THƯƠNG MIỀN TRUNG
X-ORIGINAL-URL:https://mitc.edu.vn
X-WR-CALDESC:Sự kiện cho TRƯỜNG CAO ĐẲNG CÔNG THƯƠNG MIỀN TRUNG
REFRESH-INTERVAL;VALUE=DURATION:PT1H
X-Robots-Tag:noindex
X-PUBLISHED-TTL:PT1H
BEGIN:VTIMEZONE
TZID:Asia/Ho_Chi_Minh
BEGIN:STANDARD
TZOFFSETFROM:+0700
TZOFFSETTO:+0700
TZNAME:+07
DTSTART:20240101T000000
END:STANDARD
END:VTIMEZONE
BEGIN:VEVENT
DTSTART;VALUE=DATE:20250812
DTEND;VALUE=DATE:20250813
DTSTAMP:20260425T004719
CREATED:20250716T095850Z
LAST-MODIFIED:20250716T095850Z
UID:28005-1754956800-1755043199@mitc.edu.vn
SUMMARY:Chào mừng ngày Quốc tế Thanh thiếu niên 12/8/2025
DESCRIPTION:
URL:https://mitc.edu.vn/event/chao-mung-ngay-quoc-te-thanh-thieu-nien-12-8-2025
LOCATION:Nguyễn Tất Thành\, 261 Nguyễn Tất Thành\, phường 8\, Tuy Hòa\, Phú Yên\, 56100\, Viet Nam
ATTACH;FMTTYPE=image/jpeg:https://mitc.edu.vn/wp-content/uploads/2025/07/z6810771003954_f24f7e2c8b9e6cd088f56a2c219150be.jpg
ORGANIZER;CN="MITC":MAILTO:Support@mitc.edu.vn
END:VEVENT
END:VCALENDAR