BEGIN:VCALENDAR
VERSION:2.0
PRODID:-//TRƯỜNG CAO ĐẲNG CÔNG THƯƠNG MIỀN TRUNG - ECPv6.15.20//NONSGML v1.0//EN
CALSCALE:GREGORIAN
METHOD:PUBLISH
X-ORIGINAL-URL:https://mitc.edu.vn
X-WR-CALDESC:Sự kiện cho TRƯỜNG CAO ĐẲNG CÔNG THƯƠNG MIỀN TRUNG
REFRESH-INTERVAL;VALUE=DURATION:PT1H
X-Robots-Tag:noindex
X-PUBLISHED-TTL:PT1H
BEGIN:VTIMEZONE
TZID:Asia/Ho_Chi_Minh
BEGIN:STANDARD
TZOFFSETFROM:+0700
TZOFFSETTO:+0700
TZNAME:+07
DTSTART:20240101T000000
END:STANDARD
END:VTIMEZONE
BEGIN:VEVENT
DTSTART;VALUE=DATE:20250819
DTEND;VALUE=DATE:20250820
DTSTAMP:20260425T004835
CREATED:20250716T100002Z
LAST-MODIFIED:20250716T100002Z
UID:28007-1755561600-1755647999@mitc.edu.vn
SUMMARY:Nhiệt liệt chào mừng Kỷ niệm 80 năm ngày Cách mạng tháng 8 thành công (19/8/1945 - 19/8/2025)
DESCRIPTION:
URL:https://mitc.edu.vn/event/nhiet-liet-chao-mung-ky-niem-80-nam-ngay-cach-mang-thang-8-thanh-cong-19-8-1945-19-8-2025
LOCATION:Nguyễn Tất Thành\, 261 Nguyễn Tất Thành\, phường 8\, Tuy Hòa\, Phú Yên\, 56100\, Viet Nam
ATTACH;FMTTYPE=image/jpeg:https://mitc.edu.vn/wp-content/uploads/2025/07/z6810771026003_d660fe6dbe993e2fe91467a46935426d.jpg
ORGANIZER;CN="MITC":MAILTO:Support@mitc.edu.vn
END:VEVENT
BEGIN:VEVENT
DTSTART;VALUE=DATE:20250819
DTEND;VALUE=DATE:20250820
DTSTAMP:20260425T004835
CREATED:20250716T100140Z
LAST-MODIFIED:20250716T100158Z
UID:28009-1755561600-1755647999@mitc.edu.vn
SUMMARY:Nhiệt liệt chào mừng Ngày truyền thông Công an nhân dân Việt Nam 19/8/2025
DESCRIPTION:
URL:https://mitc.edu.vn/event/nhiet-liet-chao-mung-ngay-truyen-thong-cong-an-nhan-dan-viet-nam-19-8-2025
LOCATION:Nguyễn Tất Thành\, 261 Nguyễn Tất Thành\, phường 8\, Tuy Hòa\, Phú Yên\, 56100\, Viet Nam
ATTACH;FMTTYPE=image/jpeg:https://mitc.edu.vn/wp-content/uploads/2025/07/z6810777959646_b20f52d18f464dd73e56e137c9cf2ae9.jpg
ORGANIZER;CN="MITC":MAILTO:Support@mitc.edu.vn
END:VEVENT
END:VCALENDAR