BEGIN:VCALENDAR
VERSION:2.0
PRODID:-//TRƯỜNG CAO ĐẲNG CÔNG THƯƠNG MIỀN TRUNG - ECPv6.15.20//NONSGML v1.0//EN
CALSCALE:GREGORIAN
METHOD:PUBLISH
X-ORIGINAL-URL:https://mitc.edu.vn
X-WR-CALDESC:Sự kiện cho TRƯỜNG CAO ĐẲNG CÔNG THƯƠNG MIỀN TRUNG
REFRESH-INTERVAL;VALUE=DURATION:PT1H
X-Robots-Tag:noindex
X-PUBLISHED-TTL:PT1H
BEGIN:VTIMEZONE
TZID:Asia/Ho_Chi_Minh
BEGIN:STANDARD
TZOFFSETFROM:+0700
TZOFFSETTO:+0700
TZNAME:+07
DTSTART:20240101T000000
END:STANDARD
END:VTIMEZONE
BEGIN:VEVENT
DTSTART;TZID=Asia/Ho_Chi_Minh:20250911T130000
DTEND;TZID=Asia/Ho_Chi_Minh:20250911T170000
DTSTAMP:20260424T233845
CREATED:20250908T071948Z
LAST-MODIFIED:20250908T071948Z
UID:28898-1757595600-1757610000@mitc.edu.vn
SUMMARY:Ngày hội chào đón Tân HSSV khóa 48
DESCRIPTION:
URL:https://mitc.edu.vn/event/ngay-hoi-chao-don-tan-hssv-khoa-48
LOCATION:Nguyễn Hữu Thọ\, 01 Nguyễn Hữu Thọ\, Phường 9\, Tuy Hòa\, Phú Yên\, 56100\, Viet Nam
ATTACH;FMTTYPE=image/jpeg:https://mitc.edu.vn/wp-content/uploads/2025/09/Event-TanHSV-K48-11.9.jpg
ORGANIZER;CN="MITC":MAILTO:Support@mitc.edu.vn
END:VEVENT
END:VCALENDAR