BEGIN:VCALENDAR
VERSION:2.0
PRODID:-//TRƯỜNG CAO ĐẲNG CÔNG THƯƠNG MIỀN TRUNG - ECPv6.15.20//NONSGML v1.0//EN
CALSCALE:GREGORIAN
METHOD:PUBLISH
X-WR-CALNAME:TRƯỜNG CAO ĐẲNG CÔNG THƯƠNG MIỀN TRUNG
X-ORIGINAL-URL:https://mitc.edu.vn
X-WR-CALDESC:Sự kiện cho TRƯỜNG CAO ĐẲNG CÔNG THƯƠNG MIỀN TRUNG
REFRESH-INTERVAL;VALUE=DURATION:PT1H
X-Robots-Tag:noindex
X-PUBLISHED-TTL:PT1H
BEGIN:VTIMEZONE
TZID:Asia/Ho_Chi_Minh
BEGIN:STANDARD
TZOFFSETFROM:+0700
TZOFFSETTO:+0700
TZNAME:+07
DTSTART:20240101T000000
END:STANDARD
END:VTIMEZONE
BEGIN:VEVENT
DTSTART;TZID=Asia/Ho_Chi_Minh:20250913T073000
DTEND;TZID=Asia/Ho_Chi_Minh:20250913T103000
DTSTAMP:20260424T233718
CREATED:20250903T063109Z
LAST-MODIFIED:20250903T063109Z
UID:28852-1757748600-1757759400@mitc.edu.vn
SUMMARY:Hội thảo Nâng cao chất lượng đào tạo
DESCRIPTION:
URL:https://mitc.edu.vn/event/hoi-thao-nang-cao-chat-luong-dao-tao
LOCATION:Nguyễn Hữu Thọ\, 01 Nguyễn Hữu Thọ\, Phường 9\, Tuy Hòa\, Phú Yên\, 56100\, Viet Nam
ATTACH;FMTTYPE=image/png:https://mitc.edu.vn/wp-content/uploads/2025/09/nANG-CAO-CLDT.png
ORGANIZER;CN="MITC":MAILTO:Support@mitc.edu.vn
END:VEVENT
END:VCALENDAR