BEGIN:VCALENDAR
VERSION:2.0
PRODID:-//TRƯỜNG CAO ĐẲNG CÔNG THƯƠNG MIỀN TRUNG - ECPv6.15.20//NONSGML v1.0//EN
CALSCALE:GREGORIAN
METHOD:PUBLISH
X-ORIGINAL-URL:https://mitc.edu.vn
X-WR-CALDESC:Sự kiện cho TRƯỜNG CAO ĐẲNG CÔNG THƯƠNG MIỀN TRUNG
REFRESH-INTERVAL;VALUE=DURATION:PT1H
X-Robots-Tag:noindex
X-PUBLISHED-TTL:PT1H
BEGIN:VTIMEZONE
TZID:Asia/Ho_Chi_Minh
BEGIN:STANDARD
TZOFFSETFROM:+0700
TZOFFSETTO:+0700
TZNAME:+07
DTSTART:20240101T000000
END:STANDARD
END:VTIMEZONE
BEGIN:VEVENT
DTSTART;VALUE=DATE:20250921
DTEND;VALUE=DATE:20250922
DTSTAMP:20260424T233844
CREATED:20250912T042924Z
LAST-MODIFIED:20250912T042924Z
UID:28912-1758412800-1758499199@mitc.edu.vn
SUMMARY:Chào mừng ngày Quốc tế hòa bình 21/9/2025
DESCRIPTION:
URL:https://mitc.edu.vn/event/chao-mung-ngay-quoc-te-hoa-binh-21-9-2025
LOCATION:Nguyễn Hữu Thọ\, 01 Nguyễn Hữu Thọ\, Phường 9\, Tuy Hòa\, Phú Yên\, 56100\, Viet Nam
ATTACH;FMTTYPE=image/png:https://mitc.edu.vn/wp-content/uploads/2025/09/Artboard-1.png
ORGANIZER;CN="MITC":MAILTO:Support@mitc.edu.vn
END:VEVENT
END:VCALENDAR