BEGIN:VCALENDAR
VERSION:2.0
PRODID:-//TRƯỜNG CAO ĐẲNG CÔNG THƯƠNG MIỀN TRUNG - ECPv6.15.20//NONSGML v1.0//EN
CALSCALE:GREGORIAN
METHOD:PUBLISH
X-WR-CALNAME:TRƯỜNG CAO ĐẲNG CÔNG THƯƠNG MIỀN TRUNG
X-ORIGINAL-URL:https://mitc.edu.vn
X-WR-CALDESC:Sự kiện cho TRƯỜNG CAO ĐẲNG CÔNG THƯƠNG MIỀN TRUNG
REFRESH-INTERVAL;VALUE=DURATION:PT1H
X-Robots-Tag:noindex
X-PUBLISHED-TTL:PT1H
BEGIN:VTIMEZONE
TZID:Asia/Ho_Chi_Minh
BEGIN:STANDARD
TZOFFSETFROM:+0700
TZOFFSETTO:+0700
TZNAME:+07
DTSTART:20240101T000000
END:STANDARD
END:VTIMEZONE
BEGIN:VEVENT
DTSTART;VALUE=DATE:20251120
DTEND;VALUE=DATE:20251121
DTSTAMP:20260424T210116
CREATED:20251020T004324Z
LAST-MODIFIED:20251020T004324Z
UID:29177-1763596800-1763683199@mitc.edu.vn
SUMMARY:Chào mừng ngày Nhà giá Việt Nam 20/11
DESCRIPTION:
URL:https://mitc.edu.vn/event/chao-mung-ngay-nha-gia-viet-nam-20-11
LOCATION:Nguyễn Hữu Thọ\, 01 Nguyễn Hữu Thọ\, Phường 9\, Tuy Hòa\, Phú Yên\, 56100\, Viet Nam
ATTACH;FMTTYPE=image/jpeg:https://mitc.edu.vn/wp-content/uploads/2025/10/z7134673633152_e7d47f5306d5da406b67126c92cadada.jpg
ORGANIZER;CN="MITC":MAILTO:Support@mitc.edu.vn
END:VEVENT
BEGIN:VEVENT
DTSTART;TZID=Asia/Ho_Chi_Minh:20251120T080000
DTEND;TZID=Asia/Ho_Chi_Minh:20251120T110000
DTSTAMP:20260424T210116
CREATED:20251118T040511Z
LAST-MODIFIED:20251118T040511Z
UID:29307-1763625600-1763636400@mitc.edu.vn
SUMMARY:Tọa đàm kỷ niệm 43 năm ngày Nhà giáo Việt Nam (20/11/1982 - 20/11/2025)
DESCRIPTION:
URL:https://mitc.edu.vn/event/toa-dam-ky-niem-43-nam-ngay-nha-giao-viet-nam-20-11-1982-20-11-2025
LOCATION:Nguyễn Hữu Thọ\, 01 Nguyễn Hữu Thọ\, Phường 9\, Tuy Hòa\, Phú Yên\, 56100\, Viet Nam
ATTACH;FMTTYPE=image/jpeg:https://mitc.edu.vn/wp-content/uploads/2025/11/z7231710480303_ca4fd9d57a3daa6ce6eda3ec488f872e-scaled.jpg
ORGANIZER;CN="MITC":MAILTO:Support@mitc.edu.vn
END:VEVENT
END:VCALENDAR