BEGIN:VCALENDAR
VERSION:2.0
PRODID:-//TRƯỜNG CAO ĐẲNG CÔNG THƯƠNG MIỀN TRUNG - ECPv6.15.20//NONSGML v1.0//EN
CALSCALE:GREGORIAN
METHOD:PUBLISH
X-WR-CALNAME:TRƯỜNG CAO ĐẲNG CÔNG THƯƠNG MIỀN TRUNG
X-ORIGINAL-URL:https://mitc.edu.vn
X-WR-CALDESC:Sự kiện cho TRƯỜNG CAO ĐẲNG CÔNG THƯƠNG MIỀN TRUNG
REFRESH-INTERVAL;VALUE=DURATION:PT1H
X-Robots-Tag:noindex
X-PUBLISHED-TTL:PT1H
BEGIN:VTIMEZONE
TZID:Asia/Ho_Chi_Minh
BEGIN:STANDARD
TZOFFSETFROM:+0700
TZOFFSETTO:+0700
TZNAME:+07
DTSTART:20250101T000000
END:STANDARD
END:VTIMEZONE
BEGIN:VEVENT
DTSTART;TZID=Asia/Ho_Chi_Minh:20260124T080000
DTEND;TZID=Asia/Ho_Chi_Minh:20260124T110000
DTSTAMP:20260424T183045
CREATED:20251217T090511Z
LAST-MODIFIED:20251217T090511Z
UID:29508-1769241600-1769252400@mitc.edu.vn
SUMMARY:Hội nghị Viên chức\, người lao động năm 2026
DESCRIPTION:
URL:https://mitc.edu.vn/event/hoi-nghi-vien-chuc-nguoi-lao-dong-nam-2026
LOCATION:Nguyễn Hữu Thọ\, 01 Nguyễn Hữu Thọ\, Phường 9\, Tuy Hòa\, Phú Yên\, 56100\, Viet Nam
ATTACH;FMTTYPE=image/png:https://mitc.edu.vn/wp-content/uploads/2025/12/HN-VC.NLD-2026-EVENT.png
ORGANIZER;CN="MITC":MAILTO:Support@mitc.edu.vn
END:VEVENT
END:VCALENDAR