BEGIN:VCALENDAR
VERSION:2.0
PRODID:-//TRƯỜNG CAO ĐẲNG CÔNG THƯƠNG MIỀN TRUNG - ECPv6.15.20//NONSGML v1.0//EN
CALSCALE:GREGORIAN
METHOD:PUBLISH
X-WR-CALNAME:TRƯỜNG CAO ĐẲNG CÔNG THƯƠNG MIỀN TRUNG
X-ORIGINAL-URL:https://mitc.edu.vn
X-WR-CALDESC:Sự kiện cho TRƯỜNG CAO ĐẲNG CÔNG THƯƠNG MIỀN TRUNG
REFRESH-INTERVAL;VALUE=DURATION:PT1H
X-Robots-Tag:noindex
X-PUBLISHED-TTL:PT1H
BEGIN:VTIMEZONE
TZID:Asia/Ho_Chi_Minh
BEGIN:STANDARD
TZOFFSETFROM:+0700
TZOFFSETTO:+0700
TZNAME:+07
DTSTART:20240101T000000
END:STANDARD
END:VTIMEZONE
BEGIN:VEVENT
DTSTART;VALUE=DATE:20251001
DTEND;VALUE=DATE:20251002
DTSTAMP:20260424T210028
CREATED:20250930T092818Z
LAST-MODIFIED:20250930T092818Z
UID:29067-1759276800-1759363199@mitc.edu.vn
SUMMARY:Chào mừng ngày hội Đổi mới sáng tạo Quốc gia 01/10/2025
DESCRIPTION:
URL:https://mitc.edu.vn/event/chao-mung-ngay-hoi-doi-moi-sang-tao-quoc-gia-01-10-2025
LOCATION:Nguyễn Tất Thành\, 261 Nguyễn Tất Thành\, phường 8\, Tuy Hòa\, Phú Yên\, 56100\, Viet Nam
ATTACH;FMTTYPE=image/png:https://mitc.edu.vn/wp-content/uploads/2025/09/Artboard-1-1.png
ORGANIZER;CN="MITC":MAILTO:Support@mitc.edu.vn
END:VEVENT
BEGIN:VEVENT
DTSTART;VALUE=DATE:20251002
DTEND;VALUE=DATE:20251003
DTSTAMP:20260424T210028
CREATED:20250915T005335Z
LAST-MODIFIED:20250915T005335Z
UID:28948-1759363200-1759449599@mitc.edu.vn
SUMMARY:Chào mừng ngày Khuyến học Việt Nam 02/10/2025
DESCRIPTION:
URL:https://mitc.edu.vn/event/chao-mung-ngay-khuyen-hoc-viet-nam-02-10-2025
LOCATION:Nguyễn Hữu Thọ\, 01 Nguyễn Hữu Thọ\, Phường 9\, Tuy Hòa\, Phú Yên\, 56100\, Viet Nam
ATTACH;FMTTYPE=image/png:https://mitc.edu.vn/wp-content/uploads/2025/09/Khuyen-hoc.png
ORGANIZER;CN="MITC":MAILTO:Support@mitc.edu.vn
END:VEVENT
BEGIN:VEVENT
DTSTART;VALUE=DATE:20251004
DTEND;VALUE=DATE:20251005
DTSTAMP:20260424T210028
CREATED:20250915T011319Z
LAST-MODIFIED:20250915T011319Z
UID:28959-1759536000-1759622399@mitc.edu.vn
SUMMARY:Chào mừng ngày Kỹ năng Lao động Việt Nam 04/10/2025
DESCRIPTION:
URL:https://mitc.edu.vn/event/chao-mung-ngay-ky-nang-lao-dong-viet-nam-04-10-2025
LOCATION:Nguyễn Hữu Thọ\, 01 Nguyễn Hữu Thọ\, Phường 9\, Tuy Hòa\, Phú Yên\, 56100\, Viet Nam
ATTACH;FMTTYPE=image/png:https://mitc.edu.vn/wp-content/uploads/2025/09/Artboard-7.png
ORGANIZER;CN="MITC":MAILTO:Support@mitc.edu.vn
END:VEVENT
BEGIN:VEVENT
DTSTART;VALUE=DATE:20251005
DTEND;VALUE=DATE:20251006
DTSTAMP:20260424T210028
CREATED:20250915T005459Z
LAST-MODIFIED:20251020T003903Z
UID:28954-1759622400-1759708799@mitc.edu.vn
SUMMARY:Chào mừng ngày Nhà giáo Thế giới 05/10/2025
DESCRIPTION:
URL:https://mitc.edu.vn/event/chao-mung-ngay-nha-giao-the-gioi-05-10-2025
LOCATION:Nguyễn Hữu Thọ\, 01 Nguyễn Hữu Thọ\, Phường 9\, Tuy Hòa\, Phú Yên\, 56100\, Viet Nam
ATTACH;FMTTYPE=image/png:https://mitc.edu.vn/wp-content/uploads/2025/09/Nha-giao-TG.png
ORGANIZER;CN="MITC":MAILTO:Support@mitc.edu.vn
END:VEVENT
BEGIN:VEVENT
DTSTART;TZID=Asia/Ho_Chi_Minh:20251005T160000
DTEND;TZID=Asia/Ho_Chi_Minh:20251005T180000
DTSTAMP:20260424T210028
CREATED:20250923T024020Z
LAST-MODIFIED:20250923T024020Z
UID:29013-1759680000-1759687200@mitc.edu.vn
SUMMARY:Vui tết Trung thu - Kết nối yêu thương
DESCRIPTION:
URL:https://mitc.edu.vn/event/vui-tet-trung-thu-ket-noi-yeu-thuong
LOCATION:Nguyễn Tất Thành\, 261 Nguyễn Tất Thành\, phường 8\, Tuy Hòa\, Phú Yên\, 56100\, Viet Nam
ATTACH;FMTTYPE=image/jpeg:https://mitc.edu.vn/wp-content/uploads/2025/09/Event-Trung-thu-2025.jpg
ORGANIZER;CN="MITC":MAILTO:Support@mitc.edu.vn
END:VEVENT
BEGIN:VEVENT
DTSTART;VALUE=DATE:20251010
DTEND;VALUE=DATE:20251011
DTSTAMP:20260424T210028
CREATED:20250923T003132Z
LAST-MODIFIED:20251004T030532Z
UID:29004-1760054400-1760140799@mitc.edu.vn
SUMMARY:Chúc mừng ngày Truyền thống Luật sư Việt Nam 10/10/2025
DESCRIPTION:
URL:https://mitc.edu.vn/event/chuc-mung-ngay-truyen-thong-luat-su-viet-nam-10-10-2025
LOCATION:Nguyễn Hữu Thọ\, 01 Nguyễn Hữu Thọ\, Phường 9\, Tuy Hòa\, Phú Yên\, 56100\, Viet Nam
ATTACH;FMTTYPE=image/png:https://mitc.edu.vn/wp-content/uploads/2025/09/Artboard-8.png
ORGANIZER;CN="MITC":MAILTO:Support@mitc.edu.vn
END:VEVENT
BEGIN:VEVENT
DTSTART;VALUE=DATE:20251013
DTEND;VALUE=DATE:20251014
DTSTAMP:20260424T210028
CREATED:20250915T005951Z
LAST-MODIFIED:20250915T005951Z
UID:28956-1760313600-1760399999@mitc.edu.vn
SUMMARY:Chào mừngnăm ngày Doanh nhân Việt Nam 13/10/2025
DESCRIPTION:
URL:https://mitc.edu.vn/event/chao-mungnam-ngay-doanh-nhan-viet-nam-13-10-2025
LOCATION:Nguyễn Hữu Thọ\, 01 Nguyễn Hữu Thọ\, Phường 9\, Tuy Hòa\, Phú Yên\, 56100\, Viet Nam
ATTACH;FMTTYPE=image/png:https://mitc.edu.vn/wp-content/uploads/2025/09/Doanh-nhan.png
ORGANIZER;CN="MITC":MAILTO:Support@mitc.edu.vn
END:VEVENT
BEGIN:VEVENT
DTSTART;VALUE=DATE:20251014
DTEND;VALUE=DATE:20251015
DTSTAMP:20260424T210028
CREATED:20250923T003255Z
LAST-MODIFIED:20251007T013252Z
UID:29007-1760400000-1760486399@mitc.edu.vn
SUMMARY:Chào mừng ngày Thành lập hội Nông dân Việt Nam 14/10/2025
DESCRIPTION:
URL:https://mitc.edu.vn/event/chao-mung-ngay-thanh-lap-hoi-nong-dan-viet-nam-14-10-2025
LOCATION:Nguyễn Hữu Thọ\, 01 Nguyễn Hữu Thọ\, Phường 9\, Tuy Hòa\, Phú Yên\, 56100\, Viet Nam
ATTACH;FMTTYPE=image/png:https://mitc.edu.vn/wp-content/uploads/2025/09/Artboard-9.png
ORGANIZER;CN="MITC":MAILTO:Support@mitc.edu.vn
END:VEVENT
BEGIN:VEVENT
DTSTART;TZID=Asia/Ho_Chi_Minh:20251016T130000
DTEND;TZID=Asia/Ho_Chi_Minh:20251016T170000
DTSTAMP:20260424T210028
CREATED:20251013T035257Z
LAST-MODIFIED:20251013T035257Z
UID:29136-1760619600-1760634000@mitc.edu.vn
SUMMARY:Chương trình chào mừng ngày Phụ nữ Việt Nam 20/10 dành cho nữ HSSV MITC
DESCRIPTION:
URL:https://mitc.edu.vn/event/chuong-trinh-chao-mung-ngay-phu-nu-viet-nam-20-10-danh-cho-nu-hssv-mitc
LOCATION:Nguyễn Hữu Thọ\, 01 Nguyễn Hữu Thọ\, Phường 9\, Tuy Hòa\, Phú Yên\, 56100\, Viet Nam
ATTACH;FMTTYPE=image/png:https://mitc.edu.vn/wp-content/uploads/2025/10/event-20.10.png
ORGANIZER;CN="MITC":MAILTO:Support@mitc.edu.vn
END:VEVENT
BEGIN:VEVENT
DTSTART;TZID=Asia/Ho_Chi_Minh:20251017T130000
DTEND;TZID=Asia/Ho_Chi_Minh:20251017T170000
DTSTAMP:20260424T210028
CREATED:20251013T035419Z
LAST-MODIFIED:20251013T035419Z
UID:29140-1760706000-1760720400@mitc.edu.vn
SUMMARY:Tọa đàm - Giao lưu: "Phụ nữ trong thời đại 4.0 sáng tạo\, hội nhập và phát triển"
DESCRIPTION:
URL:https://mitc.edu.vn/event/toa-dam-giao-luu-phu-nu-trong-thoi-dai-4-0-sang-tao-hoi-nhap-va-phat-trien
LOCATION:Nguyễn Hữu Thọ\, 01 Nguyễn Hữu Thọ\, Phường 9\, Tuy Hòa\, Phú Yên\, 56100\, Viet Nam
ATTACH;FMTTYPE=image/png:https://mitc.edu.vn/wp-content/uploads/2025/10/17.10.png
ORGANIZER;CN="MITC":MAILTO:Support@mitc.edu.vn
END:VEVENT
BEGIN:VEVENT
DTSTART;VALUE=DATE:20251020
DTEND;VALUE=DATE:20251021
DTSTAMP:20260424T210028
CREATED:20250923T003451Z
LAST-MODIFIED:20251013T004124Z
UID:29010-1760918400-1761004799@mitc.edu.vn
SUMMARY:Chào mừng ngày Phụ nữ Việt Nam 20/10/2025
DESCRIPTION:
URL:https://mitc.edu.vn/event/chao-mung-ngay-phu-nu-viet-nam-20-10-2025
LOCATION:Nguyễn Hữu Thọ\, 01 Nguyễn Hữu Thọ\, Phường 9\, Tuy Hòa\, Phú Yên\, 56100\, Viet Nam
ATTACH;FMTTYPE=image/png:https://mitc.edu.vn/wp-content/uploads/2025/09/Artboard-10.png
ORGANIZER;CN="MITC":MAILTO:Support@mitc.edu.vn
END:VEVENT
BEGIN:VEVENT
DTSTART;TZID=Asia/Ho_Chi_Minh:20251026T073000
DTEND;TZID=Asia/Ho_Chi_Minh:20251026T110000
DTSTAMP:20260424T210028
CREATED:20251021T020958Z
LAST-MODIFIED:20251021T020958Z
UID:29203-1761463800-1761476400@mitc.edu.vn
SUMMARY:Họp Phụ huynh học sinh các lớp Trung cấp năm học 2025 - 2026
DESCRIPTION:
URL:https://mitc.edu.vn/event/hop-phu-huynh-hoc-sinh-cac-lop-trung-cap-nam-hoc-2025-2026
LOCATION:Nguyễn Hữu Thọ\, 01 Nguyễn Hữu Thọ\, Phường 9\, Tuy Hòa\, Phú Yên\, 56100\, Viet Nam
ATTACH;FMTTYPE=image/png:https://mitc.edu.vn/wp-content/uploads/2025/10/Hop-PHHS-2025.png
ORGANIZER;CN="MITC":MAILTO:Support@mitc.edu.vn
END:VEVENT
END:VCALENDAR