BEGIN:VCALENDAR
VERSION:2.0
PRODID:-//TRƯỜNG CAO ĐẲNG CÔNG THƯƠNG MIỀN TRUNG - ECPv6.15.20//NONSGML v1.0//EN
CALSCALE:GREGORIAN
METHOD:PUBLISH
X-ORIGINAL-URL:https://mitc.edu.vn
X-WR-CALDESC:Sự kiện cho TRƯỜNG CAO ĐẲNG CÔNG THƯƠNG MIỀN TRUNG
REFRESH-INTERVAL;VALUE=DURATION:PT1H
X-Robots-Tag:noindex
X-PUBLISHED-TTL:PT1H
BEGIN:VTIMEZONE
TZID:Asia/Ho_Chi_Minh
BEGIN:STANDARD
TZOFFSETFROM:+0700
TZOFFSETTO:+0700
TZNAME:+07
DTSTART:20240101T000000
END:STANDARD
END:VTIMEZONE
BEGIN:VEVENT
DTSTART;VALUE=DATE:20251201
DTEND;VALUE=DATE:20251202
DTSTAMP:20260424T183100
CREATED:20251126T025851Z
LAST-MODIFIED:20251126T025851Z
UID:29357-1764547200-1764633599@mitc.edu.vn
SUMMARY:Hưởng ứng ngày Thế giới phòng chống AIDS 01/12
DESCRIPTION:
URL:https://mitc.edu.vn/event/huong-ung-ngay-the-gioi-phong-chong-aids-01-12
LOCATION:Nguyễn Tất Thành\, 261 Nguyễn Tất Thành\, phường 8\, Tuy Hòa\, Phú Yên\, 56100\, Viet Nam
ATTACH;FMTTYPE=image/jpeg:https://mitc.edu.vn/wp-content/uploads/2025/11/Artboard-1.jpg
ORGANIZER;CN="MITC":MAILTO:Support@mitc.edu.vn
END:VEVENT
BEGIN:VEVENT
DTSTART;VALUE=DATE:20251206
DTEND;VALUE=DATE:20251207
DTSTAMP:20260424T183100
CREATED:20251126T030151Z
LAST-MODIFIED:20251126T030151Z
UID:29365-1764979200-1765065599@mitc.edu.vn
SUMMARY:Nhiệt liệt chào mừng kỷ niệm ngày thành lập Hội cựu chiến binh Việt Nam 06/12
DESCRIPTION:
URL:https://mitc.edu.vn/event/nhiet-liet-chao-mung-ky-niem-ngay-thanh-lap-hoi-cuu-chien-binh-viet-nam-06-12
LOCATION:Nguyễn Tất Thành\, 261 Nguyễn Tất Thành\, phường 8\, Tuy Hòa\, Phú Yên\, 56100\, Viet Nam
ATTACH;FMTTYPE=image/jpeg:https://mitc.edu.vn/wp-content/uploads/2025/11/Artboard-3.jpg
ORGANIZER;CN="MITC":MAILTO:Support@mitc.edu.vn
END:VEVENT
BEGIN:VEVENT
DTSTART;TZID=Asia/Ho_Chi_Minh:20251215T130000
DTEND;TZID=Asia/Ho_Chi_Minh:20251215T170000
DTSTAMP:20260424T183100
CREATED:20251212T090547Z
LAST-MODIFIED:20251212T090547Z
UID:29474-1765803600-1765818000@mitc.edu.vn
SUMMARY:Hội nghị Kiểm điểm\, đánh giá tổ chức cơ sở Đảng\, Đảng viên năm 2025
DESCRIPTION:
URL:https://mitc.edu.vn/event/hoi-nghi-kiem-diem-danh-gia-to-chuc-co-so-dang-dang-vien-nam-2025
LOCATION:Nguyễn Tất Thành\, 261 Nguyễn Tất Thành\, phường 8\, Tuy Hòa\, Phú Yên\, 56100\, Viet Nam
ATTACH;FMTTYPE=image/jpeg:https://mitc.edu.vn/wp-content/uploads/2025/12/z7319686792478_b269959a82db86217384611cea587152.jpg
ORGANIZER;CN="MITC":MAILTO:Support@mitc.edu.vn
END:VEVENT
BEGIN:VEVENT
DTSTART;TZID=Asia/Ho_Chi_Minh:20251216T080000
DTEND;TZID=Asia/Ho_Chi_Minh:20251216T110000
DTSTAMP:20260424T183100
CREATED:20251212T091238Z
LAST-MODIFIED:20251212T091434Z
UID:29477-1765872000-1765882800@mitc.edu.vn
SUMMARY:Nghiệm thu đề tài cấp trường: "Thiết kế\, chế tạo Robot phun trừ sâu di chuyển trên mặt đất"
DESCRIPTION:
URL:https://mitc.edu.vn/event/nghiem-thu-de-tai-cap-truong-thiet-ke-che-tao-robot-phun-tru-sau-di-chuyen-tren-mat-dat
LOCATION:Nguyễn Tất Thành\, 261 Nguyễn Tất Thành\, phường 8\, Tuy Hòa\, Phú Yên\, 56100\, Viet Nam
ATTACH;FMTTYPE=image/jpeg:https://mitc.edu.vn/wp-content/uploads/2025/12/NGHIEM-THU-DE-TAI-16.12-scaled.jpg
ORGANIZER;CN="MITC":MAILTO:Support@mitc.edu.vn
END:VEVENT
BEGIN:VEVENT
DTSTART;VALUE=DATE:20251219
DTEND;VALUE=DATE:20251220
DTSTAMP:20260424T183100
CREATED:20251126T030454Z
LAST-MODIFIED:20251126T030454Z
UID:29367-1766102400-1766188799@mitc.edu.vn
SUMMARY:Nhiệt liệt chào mừng Kỷ niệm ngày Toàn quốc kháng chiến 19/12
DESCRIPTION:
URL:https://mitc.edu.vn/event/nhiet-liet-chao-mung-ky-niem-ngay-toan-quoc-khang-chien-19-12
LOCATION:Nguyễn Tất Thành\, 261 Nguyễn Tất Thành\, phường 8\, Tuy Hòa\, Phú Yên\, 56100\, Viet Nam
ATTACH;FMTTYPE=image/jpeg:https://mitc.edu.vn/wp-content/uploads/2025/11/Artboard-4.jpg
ORGANIZER;CN="MITC":MAILTO:Support@mitc.edu.vn
END:VEVENT
BEGIN:VEVENT
DTSTART;VALUE=DATE:20251222
DTEND;VALUE=DATE:20251223
DTSTAMP:20260424T183100
CREATED:20251209T015009Z
LAST-MODIFIED:20251209T015009Z
UID:29441-1766361600-1766447999@mitc.edu.vn
SUMMARY:Chào mừng kỷ niệm 81 năm ngày thành lập Quân đội nhân dân Việt Nam (22/12/1944 - 22/12/2025)
DESCRIPTION:
URL:https://mitc.edu.vn/event/chao-mung-ky-niem-81-nam-ngay-thanh-lap-quan-doi-nhan-dan-viet-nam-22-12-1944-22-12-2025
LOCATION:Nguyễn Tất Thành\, 261 Nguyễn Tất Thành\, phường 8\, Tuy Hòa\, Phú Yên\, 56100\, Viet Nam
ATTACH;FMTTYPE=image/jpeg:https://mitc.edu.vn/wp-content/uploads/2025/12/Artboard-5.jpg
ORGANIZER;CN="MITC":MAILTO:Support@mitc.edu.vn
END:VEVENT
BEGIN:VEVENT
DTSTART;TZID=Asia/Ho_Chi_Minh:20251222T080000
DTEND;TZID=Asia/Ho_Chi_Minh:20251222T110000
DTSTAMP:20260424T183100
CREATED:20251217T090120Z
LAST-MODIFIED:20251217T090120Z
UID:29505-1766390400-1766401200@mitc.edu.vn
SUMMARY:Chương trình Trao tặng học bổng cho HSSV có hoàn cảnh khó khăn
DESCRIPTION:
URL:https://mitc.edu.vn/event/chuong-trinh-trao-tang-hoc-bong-cho-hssv-co-hoan-canh-kho-khan
LOCATION:Nguyễn Hữu Thọ\, 01 Nguyễn Hữu Thọ\, Phường 9\, Tuy Hòa\, Phú Yên\, 56100\, Viet Nam
ATTACH;FMTTYPE=image/png:https://mitc.edu.vn/wp-content/uploads/2025/12/Trao-HB-22.12-scaled.png
ORGANIZER;CN="MITC":MAILTO:Support@mitc.edu.vn
END:VEVENT
BEGIN:VEVENT
DTSTART;TZID=Asia/Ho_Chi_Minh:20251227T073000
DTEND;TZID=Asia/Ho_Chi_Minh:20251227T110000
DTSTAMP:20260424T183100
CREATED:20251215T111652Z
LAST-MODIFIED:20251215T111729Z
UID:29483-1766820600-1766833200@mitc.edu.vn
SUMMARY:Đối thoại giữa Lãnh đạo nhà trường với HSSV - Học kỳ 1\, năm học 2025 - 2026
DESCRIPTION:
URL:https://mitc.edu.vn/event/doi-thoai-giua-lanh-dao-nha-truong-voi-hssv-hoc-ky-1-nam-hoc-2025-2026
LOCATION:Nguyễn Hữu Thọ\, 01 Nguyễn Hữu Thọ\, Phường 9\, Tuy Hòa\, Phú Yên\, 56100\, Viet Nam
ATTACH;FMTTYPE=image/png:https://mitc.edu.vn/wp-content/uploads/2025/12/Event-Doi-thoai-27.12.png
ORGANIZER;CN="MITC":MAILTO:Support@mitc.edu.vn
END:VEVENT
END:VCALENDAR