BEGIN:VCALENDAR
VERSION:2.0
PRODID:-//TRƯỜNG CAO ĐẲNG CÔNG THƯƠNG MIỀN TRUNG - ECPv6.15.20//NONSGML v1.0//EN
CALSCALE:GREGORIAN
METHOD:PUBLISH
X-WR-CALNAME:TRƯỜNG CAO ĐẲNG CÔNG THƯƠNG MIỀN TRUNG
X-ORIGINAL-URL:https://mitc.edu.vn
X-WR-CALDESC:Sự kiện cho TRƯỜNG CAO ĐẲNG CÔNG THƯƠNG MIỀN TRUNG
REFRESH-INTERVAL;VALUE=DURATION:PT1H
X-Robots-Tag:noindex
X-PUBLISHED-TTL:PT1H
BEGIN:VTIMEZONE
TZID:Asia/Ho_Chi_Minh
BEGIN:STANDARD
TZOFFSETFROM:+0700
TZOFFSETTO:+0700
TZNAME:+07
DTSTART:20250101T000000
END:STANDARD
END:VTIMEZONE
BEGIN:VEVENT
DTSTART;VALUE=DATE:20260203
DTEND;VALUE=DATE:20260204
DTSTAMP:20260424T162923
CREATED:20260113T012130Z
LAST-MODIFIED:20260113T012242Z
UID:29736-1770076800-1770163199@mitc.edu.vn
SUMMARY:Nhiệt liệt chào mừng Kỷ niệm 96 năm ngày thành lập Đảng Cộng Sản Việt Nam (03/02/1930 - 03/02/2026)
DESCRIPTION:
URL:https://mitc.edu.vn/event/nhiet-liet-chao-mung-ky-niem-96-nam-ngay-thanh-lap-dang-cong-san-viet-nam-03-02-1930-03-02-2026
LOCATION:Nguyễn Hữu Thọ\, 01 Nguyễn Hữu Thọ\, Phường 9\, Tuy Hòa\, Phú Yên\, 56100\, Viet Nam
ATTACH;FMTTYPE=image/png:https://mitc.edu.vn/wp-content/uploads/2026/01/3.2.png
ORGANIZER;CN="MITC":MAILTO:Support@mitc.edu.vn
END:VEVENT
BEGIN:VEVENT
DTSTART;VALUE=DATE:20260227
DTEND;VALUE=DATE:20260228
DTSTAMP:20260424T162923
CREATED:20260113T013905Z
LAST-MODIFIED:20260113T013905Z
UID:29741-1772150400-1772236799@mitc.edu.vn
SUMMARY:Nhiệt liệt chào mừng ngày Thầy thuốc Việt Nam 27/02/2026
DESCRIPTION:
URL:https://mitc.edu.vn/event/nhiet-liet-chao-mung-ngay-thay-thuoc-viet-nam-27-02-2026
LOCATION:Phú Yên
ATTACH;FMTTYPE=image/png:https://mitc.edu.vn/wp-content/uploads/2026/01/27.2.png
END:VEVENT
END:VCALENDAR