BEGIN:VCALENDAR
VERSION:2.0
PRODID:-//TRƯỜNG CAO ĐẲNG CÔNG THƯƠNG MIỀN TRUNG - ECPv6.15.20//NONSGML v1.0//EN
CALSCALE:GREGORIAN
METHOD:PUBLISH
X-WR-CALNAME:TRƯỜNG CAO ĐẲNG CÔNG THƯƠNG MIỀN TRUNG
X-ORIGINAL-URL:https://mitc.edu.vn
X-WR-CALDESC:Sự kiện cho TRƯỜNG CAO ĐẲNG CÔNG THƯƠNG MIỀN TRUNG
REFRESH-INTERVAL;VALUE=DURATION:PT1H
X-Robots-Tag:noindex
X-PUBLISHED-TTL:PT1H
BEGIN:VTIMEZONE
TZID:Asia/Ho_Chi_Minh
BEGIN:STANDARD
TZOFFSETFROM:+0700
TZOFFSETTO:+0700
TZNAME:+07
DTSTART:20250101T000000
END:STANDARD
END:VTIMEZONE
BEGIN:VEVENT
DTSTART;VALUE=DATE:20260301
DTEND;VALUE=DATE:20260401
DTSTAMP:20260423T054655
CREATED:20260206T094540Z
LAST-MODIFIED:20260206T094540Z
UID:29928-1772323200-1775001599@mitc.edu.vn
SUMMARY:Nhiệt liệt hưởng ứng Tháng Thanh niên 03/2026
DESCRIPTION:
URL:https://mitc.edu.vn/event/nhiet-liet-huong-ung-thang-thanh-nien-03-2026
LOCATION:Nguyễn Hữu Thọ\, 01 Nguyễn Hữu Thọ\, Phường 9\, Tuy Hòa\, Phú Yên\, 56100\, Viet Nam
ATTACH;FMTTYPE=image/png:https://mitc.edu.vn/wp-content/uploads/2026/02/Thang-3-1-1.png
ORGANIZER;CN="MITC":MAILTO:Support@mitc.edu.vn
END:VEVENT
BEGIN:VEVENT
DTSTART;TZID=Asia/Ho_Chi_Minh:20260306T080000
DTEND;TZID=Asia/Ho_Chi_Minh:20260306T110000
DTSTAMP:20260423T054655
CREATED:20260225T013647Z
LAST-MODIFIED:20260225T013647Z
UID:30005-1772784000-1772794800@mitc.edu.vn
SUMMARY:Chương trình Chào mừng ngày Quốc tế phụ nữ 08/3 dành cho nữ HSSV MITC năm học 2025 - 2026
DESCRIPTION:
URL:https://mitc.edu.vn/event/chuong-trinh-chao-mung-ngay-quoc-te-phu-nu-08-3-danh-cho-nu-hssv-mitc-nam-hoc-2025-2026
LOCATION:Nguyễn Hữu Thọ\, 01 Nguyễn Hữu Thọ\, Phường 9\, Tuy Hòa\, Phú Yên\, 56100\, Viet Nam
ATTACH;FMTTYPE=image/png:https://mitc.edu.vn/wp-content/uploads/2026/02/Event-8.3.png
ORGANIZER;CN="MITC":MAILTO:Support@mitc.edu.vn
END:VEVENT
BEGIN:VEVENT
DTSTART;VALUE=DATE:20260307
DTEND;VALUE=DATE:20260308
DTSTAMP:20260423T054655
CREATED:20260225T083412Z
LAST-MODIFIED:20260302T022317Z
UID:30021-1772841600-1772927999@mitc.edu.vn
SUMMARY:Chương trình "Tết trồng cây đời đời nhớ ơn Bác Hồ"
DESCRIPTION:
URL:https://mitc.edu.vn/event/chuong-trinh-tet-trong-cay-doi-doi-nho-on-bac-ho-2
LOCATION:Nguyễn Hữu Thọ\, 01 Nguyễn Hữu Thọ\, Phường 9\, Tuy Hòa\, Phú Yên\, 56100\, Viet Nam
ATTACH;FMTTYPE=image/png:https://mitc.edu.vn/wp-content/uploads/2026/02/Event-Web.png
ORGANIZER;CN="MITC":MAILTO:Support@mitc.edu.vn
END:VEVENT
BEGIN:VEVENT
DTSTART;TZID=Asia/Ho_Chi_Minh:20260307T150000
DTEND;TZID=Asia/Ho_Chi_Minh:20260307T170000
DTSTAMP:20260423T054655
CREATED:20260306T001620Z
LAST-MODIFIED:20260306T001620Z
UID:30078-1772895600-1772902800@mitc.edu.vn
SUMMARY:Ngày hội "PHỤ NỮ MITC - BẢN LĨNH\, TRÍ TUỆ\, LAN TỎA YÊU THƯƠNG"
DESCRIPTION:
URL:https://mitc.edu.vn/event/ngay-hoi-phu-nu-mitc-ban-linh-tri-tue-lan-toa-yeu-thuong
LOCATION:Nguyễn Hữu Thọ\, 01 Nguyễn Hữu Thọ\, Phường 9\, Tuy Hòa\, Phú Yên\, 56100\, Viet Nam
ATTACH;FMTTYPE=image/png:https://mitc.edu.vn/wp-content/uploads/2026/03/Ngay-hoi-quoc-te-phu-nu.png
ORGANIZER;CN="MITC":MAILTO:Support@mitc.edu.vn
END:VEVENT
BEGIN:VEVENT
DTSTART;VALUE=DATE:20260308
DTEND;VALUE=DATE:20260309
DTSTAMP:20260423T054655
CREATED:20260113T014130Z
LAST-MODIFIED:20260113T014130Z
UID:29743-1772928000-1773014399@mitc.edu.vn
SUMMARY:Chào mừng Ngày Quốc tế Phụ nữ 08/03/2026
DESCRIPTION:
URL:https://mitc.edu.vn/event/chao-mung-ngay-quoc-te-phu-nu-08-03-2026
LOCATION:Nguyễn Hữu Thọ\, 01 Nguyễn Hữu Thọ\, Phường 9\, Tuy Hòa\, Phú Yên\, 56100\, Viet Nam
ATTACH;FMTTYPE=image/png:https://mitc.edu.vn/wp-content/uploads/2026/01/8.3.png
ORGANIZER;CN="MITC":MAILTO:Support@mitc.edu.vn
END:VEVENT
BEGIN:VEVENT
DTSTART;VALUE=DATE:20260327
DTEND;VALUE=DATE:20260328
DTSTAMP:20260423T054655
CREATED:20260324T005526Z
LAST-MODIFIED:20260324T005526Z
UID:30178-1774569600-1774655999@mitc.edu.vn
SUMMARY:Chào mừng ngày Thể thao Việt Nam 27/3/2026
DESCRIPTION:
URL:https://mitc.edu.vn/event/chao-mung-ngay-the-thao-viet-nam-27-3-2026
LOCATION:Nguyễn Tất Thành\, 261 Nguyễn Tất Thành\, phường 8\, Tuy Hòa\, Phú Yên\, 56100\, Viet Nam
ATTACH;FMTTYPE=image/png:https://mitc.edu.vn/wp-content/uploads/2026/03/Ngay-the-thao-VN.png
ORGANIZER;CN="MITC":MAILTO:Support@mitc.edu.vn
END:VEVENT
BEGIN:VEVENT
DTSTART;VALUE=DATE:20260328
DTEND;VALUE=DATE:20260329
DTSTAMP:20260423T054655
CREATED:20260324T011042Z
LAST-MODIFIED:20260324T011042Z
UID:30185-1774656000-1774742399@mitc.edu.vn
SUMMARY:Hưởng ứng giờ Trái đất với thông điệp "Sáng tạo xanh - Tương lai xanh"
DESCRIPTION:
URL:https://mitc.edu.vn/event/huong-ung-gio-trai-dat-voi-thong-diep-sang-tao-xanh-tuong-lai-xanh
LOCATION:Nguyễn Tất Thành\, 261 Nguyễn Tất Thành\, phường 8\, Tuy Hòa\, Phú Yên\, 56100\, Viet Nam
ATTACH;FMTTYPE=image/png:https://mitc.edu.vn/wp-content/uploads/2026/03/2482126_banner_vneep_15013504.png
ORGANIZER;CN="MITC":MAILTO:Support@mitc.edu.vn
END:VEVENT
END:VCALENDAR